BEGIN:VCALENDAR
VERSION:2.0
PRODID:SchoolNow
CALSCALE:GREGORIAN
BEGIN:VEVENT
UID:73c6007a-004e-11f1-9c32-0a58a9feac02
DTSTAMP:20260202T154717Z
SUMMARY:Pork Riblet Sandwich\, Smiles\, Baked Beans\, Peaches\, Milk
URL;VALUE=URI:https://www.ronank12.edu/departments/food-service/calendar/88
 47807/pork-riblet-sandwich-smiles-baked-beans-peaches-milk
DTSTART:20260217T173000Z
DTEND:20260217T193000Z
END:VEVENT
END:VCALENDAR
