BEGIN:VCALENDAR
VERSION:2.0
PRODID:SchoolNow
CALSCALE:GREGORIAN
BEGIN:VEVENT
UID:73c6039a-004e-11f1-afe6-0a58a9feac02
DTSTAMP:20260202T154717Z
SUMMARY:Pork Gravy\, Mashed Potatoes\, Pea Salad\, Peaches\, Roll\, Milk
URL;VALUE=URI:https://www.ronank12.edu/departments/food-service/calendar/88
 47808/pork-gravy-mashed-potatoes-pea-salad-peaches-roll-milk
DTSTART:20260218T173000Z
DTEND:20260218T193000Z
END:VEVENT
END:VCALENDAR
