BEGIN:VCALENDAR
VERSION:2.0
PRODID:SchoolNow
CALSCALE:GREGORIAN
BEGIN:VEVENT
UID:73c60624-004e-11f1-893c-0a58a9feac02
DTSTAMP:20260202T154717Z
SUMMARY:Cheesy Beef Pasta\, Coleslaw\, Celery\, Mixed Fruit\, Roll\, Milk
URL;VALUE=URI:https://www.ronank12.edu/departments/food-service/calendar/88
 47809/cheesy-beef-pasta-coleslaw-celery-mixed-fruit-roll-milk
DTSTART:20260219T173000Z
DTEND:20260219T193000Z
END:VEVENT
END:VCALENDAR
