BEGIN:VCALENDAR
VERSION:2.0
PRODID:SchoolNow
CALSCALE:GREGORIAN
BEGIN:VEVENT
UID:73c608cc-004e-11f1-afb1-0a58a9feac02
DTSTAMP:20260202T154717Z
SUMMARY:P.B. & Jelly Sandwich\, String Cheese\, Carrots\, Applesauce\, Chip
 s\, Milk
URL;VALUE=URI:https://www.ronank12.edu/departments/food-service/calendar/88
 47810/p-b-jelly-sandwich-string-cheese-carrots-applesauce-chips-milk
DTSTART:20260220T173000Z
DTEND:20260220T193000Z
END:VEVENT
END:VCALENDAR
