BEGIN:VCALENDAR
VERSION:2.0
PRODID:SchoolNow
CALSCALE:GREGORIAN
BEGIN:VEVENT
UID:73c60b56-004e-11f1-aba3-0a58a9feac02
DTSTAMP:20260202T154717Z
SUMMARY:Chicken Quesadilla\, Tossed Salad\, Fiesta Salsa\, Chips\, Pears\, 
 Milk
URL;VALUE=URI:https://www.ronank12.edu/departments/food-service/calendar/88
 47811/chicken-quesadilla-tossed-salad-fiesta-salsa-chips-pears-milk
DTSTART:20260223T173000Z
DTEND:20260223T193000Z
END:VEVENT
END:VCALENDAR
