BEGIN:VCALENDAR
VERSION:2.0
PRODID:SchoolNow
CALSCALE:GREGORIAN
BEGIN:VEVENT
UID:73c60ed0-004e-11f1-ab6d-0a58a9feac02
DTSTAMP:20260202T154717Z
SUMMARY:Cream of Potato/Ham Soup\, Carrots\, Applesauce\, Roll with PB\, Mi
 lk
URL;VALUE=URI:https://www.ronank12.edu/departments/food-service/calendar/88
 47812/cream-of-potato-ham-soup-carrots-applesauce-roll-with-pb-milk
DTSTART:20260224T173000Z
DTEND:20260224T193000Z
END:VEVENT
END:VCALENDAR
