BEGIN:VCALENDAR
VERSION:2.0
PRODID:SchoolNow
CALSCALE:GREGORIAN
BEGIN:VEVENT
UID:73c61164-004e-11f1-8064-0a58a9feac02
DTSTAMP:20260202T154717Z
SUMMARY:Chicken Sandwich\, Potato Wedges\, Tomato\, Apple Crisp\, Milk
URL;VALUE=URI:https://www.ronank12.edu/departments/food-service/calendar/88
 47813/chicken-sandwich-potato-wedges-tomato-apple-crisp-milk
DTSTART:20260225T173000Z
DTEND:20260225T193000Z
END:VEVENT
END:VCALENDAR
