BEGIN:VCALENDAR
VERSION:2.0
PRODID:SchoolNow
CALSCALE:GREGORIAN
BEGIN:VEVENT
UID:73c6140c-004e-11f1-9a93-0a58a9feac02
DTSTAMP:20260202T154717Z
SUMMARY:Breaded Steak\, Mashed Potatoes\, Country Gravy\, Pea Salad\, Roll\
 , Craisins\, Milk
URL;VALUE=URI:https://www.ronank12.edu/departments/food-service/calendar/88
 47814/breaded-steak-mashed-potatoes-country-gravy-pea-salad-roll-craisins-
 milk
DTSTART:20260226T173000Z
DTEND:20260226T193000Z
END:VEVENT
END:VCALENDAR
