BEGIN:VCALENDAR
VERSION:2.0
PRODID:SchoolNow
CALSCALE:GREGORIAN
BEGIN:VEVENT
UID:73c61722-004e-11f1-a7e4-0a58a9feac02
DTSTAMP:20260202T154717Z
SUMMARY:Closed
URL;VALUE=URI:https://www.ronank12.edu/departments/food-service/calendar/88
 47815/closed
DTSTART:20260227T150000Z
DTEND:20260227T153000Z
END:VEVENT
END:VCALENDAR
