BEGIN:VCALENDAR
VERSION:2.0
PRODID:SchoolNow
CALSCALE:GREGORIAN
BEGIN:VEVENT
UID:860b12c6-129a-11f1-91cb-0a58a9feac02
DTSTAMP:20260225T223710Z
SUMMARY:Maple Bar\, String Cheese\, Applesauce\, Milk
URL;VALUE=URI:https://www.ronank12.edu/departments/food-service/calendar/88
 71779/maple-bar-string-cheese-applesauce-milk
DTSTART:20260302T150000Z
DTEND:20260302T153000Z
END:VEVENT
END:VCALENDAR
