BEGIN:VCALENDAR
VERSION:2.0
PRODID:SchoolNow
CALSCALE:GREGORIAN
BEGIN:VEVENT
UID:860b5b00-129a-11f1-ad88-0a58a9feac02
DTSTAMP:20260225T223710Z
SUMMARY:Biscuits and Sausage Gravy\, Pears\, Milk
URL;VALUE=URI:https://www.ronank12.edu/departments/food-service/calendar/88
 71780/biscuits-and-sausage-gravy-pears-milk
DTSTART:20260303T150000Z
DTEND:20260303T153000Z
END:VEVENT
END:VCALENDAR
