BEGIN:VCALENDAR
VERSION:2.0
PRODID:SchoolNow
CALSCALE:GREGORIAN
BEGIN:VEVENT
UID:860b5e98-129a-11f1-9ecc-0a58a9feac02
DTSTAMP:20260225T223710Z
SUMMARY:Waffles\, Mixed Fruit\, Milk
URL;VALUE=URI:https://www.ronank12.edu/departments/food-service/calendar/88
 71781/waffles-mixed-fruit-milk
DTSTART:20260304T150000Z
DTEND:20260304T153000Z
END:VEVENT
END:VCALENDAR
