BEGIN:VCALENDAR
VERSION:2.0
PRODID:SchoolNow
CALSCALE:GREGORIAN
BEGIN:VEVENT
UID:860b6096-129a-11f1-8604-0a58a9feac02
DTSTAMP:20260225T223710Z
SUMMARY:Sausage and Cheese Muffin or Cold Cereal\, Juice\, Milk\, Raisins
URL;VALUE=URI:https://www.ronank12.edu/departments/food-service/calendar/88
 71782/sausage-and-cheese-muffin-or-cold-cereal-juice-milk-raisins
DTSTART:20260305T150000Z
DTEND:20260305T153000Z
END:VEVENT
END:VCALENDAR
