BEGIN:VCALENDAR
VERSION:2.0
PRODID:SchoolNow
CALSCALE:GREGORIAN
BEGIN:VEVENT
UID:860b6262-129a-11f1-ac4c-0a58a9feac02
DTSTAMP:20260225T223710Z
SUMMARY:French Toast\, Juice\, Craisins\, Milk
URL;VALUE=URI:https://www.ronank12.edu/departments/food-service/calendar/88
 71783/french-toast-juice-craisins-milk
DTSTART:20260306T150000Z
DTEND:20260306T153000Z
END:VEVENT
END:VCALENDAR
