BEGIN:VCALENDAR
VERSION:2.0
PRODID:SchoolNow
CALSCALE:GREGORIAN
BEGIN:VEVENT
UID:860b64ce-129a-11f1-b118-0a58a9feac02
DTSTAMP:20260225T223710Z
SUMMARY:Cold Cereal\, Chocolate Muffin\, Juice\, Craisins\, Milk
URL;VALUE=URI:https://www.ronank12.edu/departments/food-service/calendar/88
 71784/cold-cereal-chocolate-muffin-juice-craisins-milk
DTSTART:20260309T140000Z
DTEND:20260309T143000Z
END:VEVENT
END:VCALENDAR
