BEGIN:VCALENDAR
VERSION:2.0
PRODID:SchoolNow
CALSCALE:GREGORIAN
BEGIN:VEVENT
UID:860b679e-129a-11f1-95e4-0a58a9feac02
DTSTAMP:20260225T223710Z
SUMMARY:Pancake on a Stick\, Applesauce\, Milk
URL;VALUE=URI:https://www.ronank12.edu/departments/food-service/calendar/88
 71785/pancake-on-a-stick-applesauce-milk
DTSTART:20260310T140000Z
DTEND:20260310T143000Z
END:VEVENT
END:VCALENDAR
