BEGIN:VCALENDAR
VERSION:2.0
PRODID:SchoolNow
CALSCALE:GREGORIAN
BEGIN:VEVENT
UID:860b6a82-129a-11f1-b884-0a58a9feac02
DTSTAMP:20260225T223710Z
SUMMARY:Banana Bread\, Peaches\, Milk
URL;VALUE=URI:https://www.ronank12.edu/departments/food-service/calendar/88
 71786/banana-bread-peaches-milk
DTSTART:20260311T140000Z
DTEND:20260311T143000Z
END:VEVENT
END:VCALENDAR
