BEGIN:VCALENDAR
VERSION:2.0
PRODID:SchoolNow
CALSCALE:GREGORIAN
BEGIN:VEVENT
UID:860b6dfc-129a-11f1-b98e-0a58a9feac02
DTSTAMP:20260225T223710Z
SUMMARY:Cheese Omelet\, Toast\, Juice\, Banana Chips\, Milk
URL;VALUE=URI:https://www.ronank12.edu/departments/food-service/calendar/88
 71787/cheese-omelet-toast-juice-banana-chips-milk
DTSTART:20260312T140000Z
DTEND:20260312T143000Z
END:VEVENT
END:VCALENDAR
