BEGIN:VCALENDAR
VERSION:2.0
PRODID:SchoolNow
CALSCALE:GREGORIAN
BEGIN:VEVENT
UID:860b711c-129a-11f1-a15c-0a58a9feac02
DTSTAMP:20260225T223710Z
SUMMARY:Strawberry Bagel\, Peaches\, Milk
URL;VALUE=URI:https://www.ronank12.edu/departments/food-service/calendar/88
 71788/strawberry-bagel-peaches-milk
DTSTART:20260313T140000Z
DTEND:20260313T143000Z
END:VEVENT
END:VCALENDAR
