BEGIN:VCALENDAR
VERSION:2.0
PRODID:SchoolNow
CALSCALE:GREGORIAN
BEGIN:VEVENT
UID:860b75fe-129a-11f1-ab23-0a58a9feac02
DTSTAMP:20260225T223710Z
SUMMARY:Leprechaun Maple Bar\, String Cheese\, Applesauce\, Milk
URL;VALUE=URI:https://www.ronank12.edu/departments/food-service/calendar/88
 71790/leprechaun-maple-bar-string-cheese-applesauce-milk
DTSTART:20260317T140000Z
DTEND:20260317T143000Z
END:VEVENT
END:VCALENDAR
