BEGIN:VCALENDAR
VERSION:2.0
PRODID:SchoolNow
CALSCALE:GREGORIAN
BEGIN:VEVENT
UID:860b77ac-129a-11f1-b2ae-0a58a9feac02
DTSTAMP:20260225T223710Z
SUMMARY:Biscuits and Sausage Gravy\, Mixed Fruit\, Milk
URL;VALUE=URI:https://www.ronank12.edu/departments/food-service/calendar/88
 71791/biscuits-and-sausage-gravy-mixed-fruit-milk
DTSTART:20260318T140000Z
DTEND:20260318T143000Z
END:VEVENT
END:VCALENDAR
