BEGIN:VCALENDAR
VERSION:2.0
PRODID:SchoolNow
CALSCALE:GREGORIAN
BEGIN:VEVENT
UID:860b79be-129a-11f1-a51b-0a58a9feac02
DTSTAMP:20260225T223710Z
SUMMARY:Sausage and Cheese Muffin or Cold Cereal\, Juice\, Milk\, Dried Che
 rries
URL;VALUE=URI:https://www.ronank12.edu/departments/food-service/calendar/88
 71792/sausage-and-cheese-muffin-or-cold-cereal-juice-milk-dried-cherries
DTSTART:20260319T140000Z
DTEND:20260319T143000Z
END:VEVENT
END:VCALENDAR
