BEGIN:VCALENDAR
VERSION:2.0
PRODID:SchoolNow
CALSCALE:GREGORIAN
BEGIN:VEVENT
UID:860b7b62-129a-11f1-8db7-0a58a9feac02
DTSTAMP:20260225T223710Z
SUMMARY:Pancakes\, Pears\, Milk
URL;VALUE=URI:https://www.ronank12.edu/departments/food-service/calendar/88
 71793/pancakes-pears-milk
DTSTART:20260320T140000Z
DTEND:20260320T143000Z
END:VEVENT
END:VCALENDAR
