BEGIN:VCALENDAR
VERSION:2.0
PRODID:SchoolNow
CALSCALE:GREGORIAN
BEGIN:VEVENT
UID:860b7d6a-129a-11f1-ae59-0a58a9feac02
DTSTAMP:20260225T223710Z
SUMMARY:Cold Cereal\, Muffin\, Juice\, Craisins\, Milk
URL;VALUE=URI:https://www.ronank12.edu/departments/food-service/calendar/88
 71794/cold-cereal-muffin-juice-craisins-milk
DTSTART:20260323T140000Z
DTEND:20260323T143000Z
END:VEVENT
END:VCALENDAR
