BEGIN:VCALENDAR
VERSION:2.0
PRODID:SchoolNow
CALSCALE:GREGORIAN
BEGIN:VEVENT
UID:860b7f18-129a-11f1-9047-0a58a9feac02
DTSTAMP:20260225T223710Z
SUMMARY:Pancake on a Stick\, Applesauce\, Milk
URL;VALUE=URI:https://www.ronank12.edu/departments/food-service/calendar/88
 71795/pancake-on-a-stick-applesauce-milk
DTSTART:20260324T140000Z
DTEND:20260324T143000Z
END:VEVENT
END:VCALENDAR
