BEGIN:VCALENDAR
VERSION:2.0
PRODID:SchoolNow
CALSCALE:GREGORIAN
BEGIN:VEVENT
UID:860b80e4-129a-11f1-82a6-0a58a9feac02
DTSTAMP:20260225T223710Z
SUMMARY:Pancake Sandwich\, Pears\, Milk
URL;VALUE=URI:https://www.ronank12.edu/departments/food-service/calendar/88
 71796/pancake-sandwich-pears-milk
DTSTART:20260325T140000Z
DTEND:20260325T143000Z
END:VEVENT
END:VCALENDAR
