BEGIN:VCALENDAR
VERSION:2.0
PRODID:SchoolNow
CALSCALE:GREGORIAN
BEGIN:VEVENT
UID:860b8288-129a-11f1-8bbd-0a58a9feac02
DTSTAMP:20260225T223710Z
SUMMARY:Cheese Omelet\, Toast\, Juice\, Craisins\, Milk
URL;VALUE=URI:https://www.ronank12.edu/departments/food-service/calendar/88
 71797/cheese-omelet-toast-juice-craisins-milk
DTSTART:20260326T140000Z
DTEND:20260326T143000Z
END:VEVENT
END:VCALENDAR
