BEGIN:VCALENDAR
VERSION:2.0
PRODID:SchoolNow
CALSCALE:GREGORIAN
BEGIN:VEVENT
UID:860b8648-129a-11f1-be30-0a58a9feac02
DTSTAMP:20260225T223710Z
SUMMARY:Cinnamon Roll\, Pineapple\, Milk
URL;VALUE=URI:https://www.ronank12.edu/departments/food-service/calendar/88
 71798/cinnamon-roll-pineapple-milk
DTSTART:20260327T140000Z
DTEND:20260327T143000Z
END:VEVENT
END:VCALENDAR
