BEGIN:VCALENDAR
VERSION:2.0
PRODID:SchoolNow
CALSCALE:GREGORIAN
BEGIN:VEVENT
UID:860b88c8-129a-11f1-a705-0a58a9feac02
DTSTAMP:20260225T223710Z
SUMMARY:French Toast\, Applesauce\, Milk
URL;VALUE=URI:https://www.ronank12.edu/departments/food-service/calendar/88
 71799/french-toast-applesauce-milk
DTSTART:20260330T140000Z
DTEND:20260330T143000Z
END:VEVENT
END:VCALENDAR
