BEGIN:VCALENDAR
VERSION:2.0
PRODID:SchoolNow
CALSCALE:GREGORIAN
BEGIN:VEVENT
UID:860b8b0c-129a-11f1-b54d-0a58a9feac02
DTSTAMP:20260225T223710Z
SUMMARY:Breakfast Pizza\, Juice\, Craisins\, Milk
URL;VALUE=URI:https://www.ronank12.edu/departments/food-service/calendar/88
 71800/breakfast-pizza-juice-craisins-milk
DTSTART:20260331T140000Z
DTEND:20260331T143000Z
END:VEVENT
END:VCALENDAR
