BEGIN:VCALENDAR
VERSION:2.0
PRODID:SchoolNow
CALSCALE:GREGORIAN
BEGIN:VEVENT
UID:860b8cc4-129a-11f1-b96f-0a58a9feac02
DTSTAMP:20260225T223710Z
SUMMARY:Beef A Roni Soup\, Cheesy Bites\, Baby Carrots\, Applesauce\, Milk
URL;VALUE=URI:https://www.ronank12.edu/departments/food-service/calendar/88
 71801/beef-a-roni-soup-cheesy-bites-baby-carrots-applesauce-milk
DTSTART:20260302T173000Z
DTEND:20260302T193000Z
END:VEVENT
END:VCALENDAR
