BEGIN:VCALENDAR
VERSION:2.0
PRODID:SchoolNow
CALSCALE:GREGORIAN
BEGIN:VEVENT
UID:860b8e68-129a-11f1-904a-0a58a9feac02
DTSTAMP:20260225T223710Z
SUMMARY:Beef Burrito\, Refried Beans\, Corn\, Chips\, Pears\, Milk
URL;VALUE=URI:https://www.ronank12.edu/departments/food-service/calendar/88
 71802/beef-burrito-refried-beans-corn-chips-pears-milk
DTSTART:20260303T173000Z
DTEND:20260303T193000Z
END:VEVENT
END:VCALENDAR
