BEGIN:VCALENDAR
VERSION:2.0
PRODID:SchoolNow
CALSCALE:GREGORIAN
BEGIN:VEVENT
UID:860b9016-129a-11f1-8d3e-0a58a9feac02
DTSTAMP:20260225T223710Z
SUMMARY:Chicken Strips\, Mashed Potatoes\, Gravy\, Pea Salad\, Sliced Apple
 s\, Roll\, Milk
URL;VALUE=URI:https://www.ronank12.edu/departments/food-service/calendar/88
 71803/chicken-strips-mashed-potatoes-gravy-pea-salad-sliced-apples-roll-mi
 lk
DTSTART:20260304T173000Z
DTEND:20260304T193000Z
END:VEVENT
END:VCALENDAR
