BEGIN:VCALENDAR
VERSION:2.0
PRODID:SchoolNow
CALSCALE:GREGORIAN
BEGIN:VEVENT
UID:860b91ce-129a-11f1-a7d9-0a58a9feac02
DTSTAMP:20260225T223710Z
SUMMARY:Beef Lasagna\, Tossed Salad\, Mixed Fruit\, Garlic Roll\, Milk
URL;VALUE=URI:https://www.ronank12.edu/departments/food-service/calendar/88
 71804/beef-lasagna-tossed-salad-mixed-fruit-garlic-roll-milk
DTSTART:20260305T173000Z
DTEND:20260305T193000Z
END:VEVENT
END:VCALENDAR
