BEGIN:VCALENDAR
VERSION:2.0
PRODID:SchoolNow
CALSCALE:GREGORIAN
BEGIN:VEVENT
UID:860b937c-129a-11f1-b183-0a58a9feac02
DTSTAMP:20260225T223710Z
SUMMARY:Pepperoni Calzones\, Coleslaw\, Broccoli\, Blueberry Crisp\, Milk
URL;VALUE=URI:https://www.ronank12.edu/departments/food-service/calendar/88
 71805/pepperoni-calzones-coleslaw-broccoli-blueberry-crisp-milk
DTSTART:20260306T173000Z
DTEND:20260306T193000Z
END:VEVENT
END:VCALENDAR
