BEGIN:VCALENDAR
VERSION:2.0
PRODID:SchoolNow
CALSCALE:GREGORIAN
BEGIN:VEVENT
UID:860b953e-129a-11f1-bf82-0a58a9feac02
DTSTAMP:20260225T223710Z
SUMMARY:Chicken Noodle Soup\, Cheesy Breadsticks\, Carrots\, Applesauce\, M
 ilk
URL;VALUE=URI:https://www.ronank12.edu/departments/food-service/calendar/88
 71806/chicken-noodle-soup-cheesy-breadsticks-carrots-applesauce-milk
DTSTART:20260309T163000Z
DTEND:20260309T183000Z
END:VEVENT
END:VCALENDAR
