BEGIN:VCALENDAR
VERSION:2.0
PRODID:SchoolNow
CALSCALE:GREGORIAN
BEGIN:VEVENT
UID:860b96ec-129a-11f1-b570-0a58a9feac02
DTSTAMP:20260225T223710Z
SUMMARY:Hot Ham and Cheese Sandwich\, Smiles\, Green Beans\, Pears\, Milk
URL;VALUE=URI:https://www.ronank12.edu/departments/food-service/calendar/88
 71807/hot-ham-and-cheese-sandwich-smiles-green-beans-pears-milk
DTSTART:20260310T163000Z
DTEND:20260310T183000Z
END:VEVENT
END:VCALENDAR
