BEGIN:VCALENDAR
VERSION:2.0
PRODID:SchoolNow
CALSCALE:GREGORIAN
BEGIN:VEVENT
UID:860b9890-129a-11f1-9bb6-0a58a9feac02
DTSTAMP:20260225T223710Z
SUMMARY:Cheese Burger\, Potato Wedges\, Tomato\, Pickles\, Apple Crisp\, Mi
 lk
URL;VALUE=URI:https://www.ronank12.edu/departments/food-service/calendar/88
 71808/cheese-burger-potato-wedges-tomato-pickles-apple-crisp-milk
DTSTART:20260311T163000Z
DTEND:20260311T183000Z
END:VEVENT
END:VCALENDAR
