BEGIN:VCALENDAR
VERSION:2.0
PRODID:SchoolNow
CALSCALE:GREGORIAN
BEGIN:VEVENT
UID:860b9a34-129a-11f1-aff3-0a58a9feac02
DTSTAMP:20260225T223710Z
SUMMARY:Beef Taco on a Tortilla\, Lettuce\, Salsa\, Banana\, Roll\, Milk
URL;VALUE=URI:https://www.ronank12.edu/departments/food-service/calendar/88
 71809/beef-taco-on-a-tortilla-lettuce-salsa-banana-roll-milk
DTSTART:20260312T163000Z
DTEND:20260312T183000Z
END:VEVENT
END:VCALENDAR
