BEGIN:VCALENDAR
VERSION:2.0
PRODID:SchoolNow
CALSCALE:GREGORIAN
BEGIN:VEVENT
UID:860b9ce6-129a-11f1-99c5-0a58a9feac02
DTSTAMP:20260225T223710Z
SUMMARY:Pepperoni Ripper\, Tossed Salad\, Broccoli\, Apple Slices\, Milk
URL;VALUE=URI:https://www.ronank12.edu/departments/food-service/calendar/88
 71810/pepperoni-ripper-tossed-salad-broccoli-apple-slices-milk
DTSTART:20260313T163000Z
DTEND:20260313T183000Z
END:VEVENT
END:VCALENDAR
