BEGIN:VCALENDAR
VERSION:2.0
PRODID:SchoolNow
CALSCALE:GREGORIAN
BEGIN:VEVENT
UID:860ba04c-129a-11f1-ac7d-0a58a9feac02
DTSTAMP:20260225T223710Z
SUMMARY:Orange Chicken on Rice\, Carrots\, Broccoli\, Mandarin Oranges\, Mi
 lk
URL;VALUE=URI:https://www.ronank12.edu/departments/food-service/calendar/88
 71811/orange-chicken-on-rice-carrots-broccoli-mandarin-oranges-milk
DTSTART:20260316T163000Z
DTEND:20260316T183000Z
END:VEVENT
END:VCALENDAR
