BEGIN:VCALENDAR
VERSION:2.0
PRODID:SchoolNow
CALSCALE:GREGORIAN
BEGIN:VEVENT
UID:860ba38a-129a-11f1-8372-0a58a9feac02
DTSTAMP:20260225T223710Z
SUMMARY:Baked Potato\, Stroganoff Topping\, Tossed Salad\, Peaches Snack\, 
 Milk
URL;VALUE=URI:https://www.ronank12.edu/departments/food-service/calendar/88
 71812/baked-potato-stroganoff-topping-tossed-salad-peaches-snack-milk
DTSTART:20260317T163000Z
DTEND:20260317T183000Z
END:VEVENT
END:VCALENDAR
