BEGIN:VCALENDAR
VERSION:2.0
PRODID:SchoolNow
CALSCALE:GREGORIAN
BEGIN:VEVENT
UID:860ba70e-129a-11f1-9774-0a58a9feac02
DTSTAMP:20260225T223710Z
SUMMARY:Chicken Patty\, Potato Wedges\, Lettuce\, Pears\, Milk
URL;VALUE=URI:https://www.ronank12.edu/departments/food-service/calendar/88
 71813/chicken-patty-potato-wedges-lettuce-pears-milk
DTSTART:20260318T163000Z
DTEND:20260318T183000Z
END:VEVENT
END:VCALENDAR
