BEGIN:VCALENDAR
VERSION:2.0
PRODID:SchoolNow
CALSCALE:GREGORIAN
BEGIN:VEVENT
UID:860ba9e8-129a-11f1-b13b-0a58a9feac02
DTSTAMP:20260225T223710Z
SUMMARY:Beef Chili\, Cinnamon Buns\, Carrots\, Banana\, Crackers\, Milk
URL;VALUE=URI:https://www.ronank12.edu/departments/food-service/calendar/88
 71814/beef-chili-cinnamon-buns-carrots-banana-crackers-milk
DTSTART:20260319T163000Z
DTEND:20260319T183000Z
END:VEVENT
END:VCALENDAR
