BEGIN:VCALENDAR
VERSION:2.0
PRODID:SchoolNow
CALSCALE:GREGORIAN
BEGIN:VEVENT
UID:860bac90-129a-11f1-8413-0a58a9feac02
DTSTAMP:20260225T223710Z
SUMMARY:Corn Dog\, Tater Tots\, Pea Salad\, Rosy Applesauce\, Milk
URL;VALUE=URI:https://www.ronank12.edu/departments/food-service/calendar/88
 71815/corn-dog-tater-tots-pea-salad-rosy-applesauce-milk
DTSTART:20260320T163000Z
DTEND:20260320T183000Z
END:VEVENT
END:VCALENDAR
