BEGIN:VCALENDAR
VERSION:2.0
PRODID:SchoolNow
CALSCALE:GREGORIAN
BEGIN:VEVENT
UID:860bb000-129a-11f1-8799-0a58a9feac02
DTSTAMP:20260225T223710Z
SUMMARY:Cheesy Beef Pasta\, Tossed Salad\, Celery\, Mixed Fruit\, Roll\, Mi
 lk
URL;VALUE=URI:https://www.ronank12.edu/departments/food-service/calendar/88
 71817/cheesy-beef-pasta-tossed-salad-celery-mixed-fruit-roll-milk
DTSTART:20260324T163000Z
DTEND:20260324T183000Z
END:VEVENT
END:VCALENDAR
