BEGIN:VCALENDAR
VERSION:2.0
PRODID:SchoolNow
CALSCALE:GREGORIAN
BEGIN:VEVENT
UID:860bb1ae-129a-11f1-8da9-0a58a9feac02
DTSTAMP:20260225T223710Z
SUMMARY:Cold Turkey and Cheese Sandwich\, Lettuce\, Peaches\, Chocolate Hum
 mus\, Scooby Doo’s\, Milk
URL;VALUE=URI:https://www.ronank12.edu/departments/food-service/calendar/88
 71818/cold-turkey-and-cheese-sandwich-lettuce-peaches-chocolate-hummus-sco
 oby-doo-s-milk
DTSTART:20260325T163000Z
DTEND:20260325T183000Z
END:VEVENT
END:VCALENDAR
