BEGIN:VCALENDAR
VERSION:2.0
PRODID:SchoolNow
CALSCALE:GREGORIAN
BEGIN:VEVENT
UID:860bb3b6-129a-11f1-a661-0a58a9feac02
DTSTAMP:20260225T223710Z
SUMMARY:Spaghetti\, Tossed Salad\, Pears\, Garlic Roll\, Milk
URL;VALUE=URI:https://www.ronank12.edu/departments/food-service/calendar/88
 71819/spaghetti-tossed-salad-pears-garlic-roll-milk
DTSTART:20260326T163000Z
DTEND:20260326T183000Z
END:VEVENT
END:VCALENDAR
