BEGIN:VCALENDAR
VERSION:2.0
PRODID:SchoolNow
CALSCALE:GREGORIAN
BEGIN:VEVENT
UID:860bb58c-129a-11f1-a712-0a58a9feac02
DTSTAMP:20260225T223710Z
SUMMARY:Hot Dog or a Chili Dog\, Tater Tots\, Peaches\, Milk
URL;VALUE=URI:https://www.ronank12.edu/departments/food-service/calendar/88
 71820/hot-dog-or-a-chili-dog-tater-tots-peaches-milk
DTSTART:20260327T163000Z
DTEND:20260327T183000Z
END:VEVENT
END:VCALENDAR
