BEGIN:VCALENDAR
VERSION:2.0
PRODID:SchoolNow
CALSCALE:GREGORIAN
BEGIN:VEVENT
UID:860bb73a-129a-11f1-a2f7-0a58a9feac02
DTSTAMP:20260225T223710Z
SUMMARY:Meatball Sandwich\, French Fries\, Carrots\, Peaches\, Milk
URL;VALUE=URI:https://www.ronank12.edu/departments/food-service/calendar/88
 71821/meatball-sandwich-french-fries-carrots-peaches-milk
DTSTART:20260330T163000Z
DTEND:20260330T183000Z
END:VEVENT
END:VCALENDAR
